BEGIN:VCALENDAR
VERSION:2.0
PRODID:-//Juntos por causa da missão! - ECPv4.6.18//NONSGML v1.0//EN
CALSCALE:GREGORIAN
METHOD:PUBLISH
X-WR-CALNAME:Juntos por causa da missão!
X-ORIGINAL-URL:https://blog.cancaonova.com/voluntarios
X-WR-CALDESC:Events for Juntos por causa da missão!
BEGIN:VEVENT
DTSTART;TZID=America/Sao_Paulo:20241025T090000
DTEND;TZID=America/Sao_Paulo:20241027T170000
DTSTAMP:20260424T031244
CREATED:20240826T144932Z
LAST-MODIFIED:20240826T145153Z
UID:949-1729846800-1730048400@blog.cancaonova.com
SUMMARY:ACAMPAMENTO FÉ CATÓLICA
DESCRIPTION:A fé é um começo da vida eterna\nDe 25 a 27 de outubro\, a Comunidade Canção Nova em Cachoeira Paulista (SP) realizará o Acampamento Fé Católica. \nA fé católica é uma expressão profunda de devoção e crença na Doutrina da Igreja Católica Apostólica Romana. Baseia-se na facilidade dos ensinamentos da Bíblia\, da tradição e do Magistério da Igreja. Todo cristão católico precisa conhecer\, com profundidade\, a fé que professa. \nTodo católico precisa saber que a Eucaristia não é somente festa e banquete\, mas também é sacrifício. Na Eucaristia\, vivenciamos todo o mistério de Cristo: Encarnação\, Vida\, Paixão\, Morte\, Ressurreição e Ascensão de Cristo. A Igreja não fragmenta o mistério\, ela o assume por inteiro. \nPor isso\, organize-se\, reserve esses dados e venha participar do Acampamento Fé Católica. Será uma oportunidade para fortalecer sua fé\, viver momentos de profunda espiritualidade. \nPrepare-se para momentos de oração\, louvor\, pregação\, Adoração ao Santíssimo Sacramento e Santa Missa. Essa chance de renovar sua fé e aprofundar seu entendimento sobre os mistérios que professamos. \nEsperamos por você de braços abertos!  \n
URL:https://blog.cancaonova.com/voluntarios/event/acampamento-fe-catolica/
LOCATION:Rua João Paulo II\, S/N\, Cachoeira Paulista\, São Paulo\, 12.630-000\, Brasil
CATEGORIES:Eventos Outubro
ATTACH;FMTTYPE=image/png:https://blog.cancaonova.com/voluntarios/files/2024/08/ACAMP-9.png
END:VEVENT
END:VCALENDAR