BEGIN:VCALENDAR
VERSION:2.0
PRODID:-//Juntos por causa da missão! - ECPv4.6.18//NONSGML v1.0//EN
CALSCALE:GREGORIAN
METHOD:PUBLISH
X-WR-CALNAME:Juntos por causa da missão!
X-ORIGINAL-URL:https://blog.cancaonova.com/voluntarios
X-WR-CALDESC:Events for Juntos por causa da missão!
BEGIN:VEVENT
DTSTART;TZID=America/Sao_Paulo:20250214T080000
DTEND;TZID=America/Sao_Paulo:20250216T170000
DTSTAMP:20260423T202203
CREATED:20241126T173012Z
LAST-MODIFIED:20241126T174225Z
UID:1111-1739520000-1739725200@blog.cancaonova.com
SUMMARY:ACAMPAMENTO A PROFECIA DO AVIVAMENTO
DESCRIPTION:Um chamado à conversão e ao derramamento do Espírito\nNos dias 14 a 16 de fevereiro\, você é nosso convidado para o evento Profecia do Avivamento\, que acontecerá na Canção Nova em Cachoeira Paulista/SP. Este encontro\, que traz o tema “O Espírito e a Noiva dizem: Vem! Que Teu reino venha”\, é um chamado para abrir nossos corações ao derramamento do Espírito Santo e ao poder da profecia que renova nossa fé e nos prepara para viver o Reino de Deus aqui e agora. \nA Profecia do Avivamento é uma experiência única\, um chamado à conversão e à entrega completa ao Senhor\, que nos convida a ser participantes de Seu Reino. Venha buscar este avivamento que transforma\, cura e prepara o caminho para vinda do Senhor. \nChame seus familiares e amigos e venha proclamar: “Vem\, Senhor Jesus!” \n
URL:https://blog.cancaonova.com/voluntarios/event/acampamento-profecia-avivamento/
LOCATION:Rua João Paulo II\, S/N\, Cachoeira Paulista\, São Paulo\, 12.630-000\, Brasil
CATEGORIES:Evento Fevereiro
ATTACH;FMTTYPE=image/png:https://blog.cancaonova.com/voluntarios/files/2024/11/Site-2.png
END:VEVENT
BEGIN:VEVENT
DTSTART;TZID=America/Sao_Paulo:20250216T080000
DTEND;TZID=America/Sao_Paulo:20250216T170000
DTSTAMP:20260423T202203
CREATED:20241126T173851Z
LAST-MODIFIED:20241126T174050Z
UID:1114-1739692800-1739725200@blog.cancaonova.com
SUMMARY:KAÍROS TERÇO DOS HOMENS
DESCRIPTION:Nossa Senhora se alegra com a oração do terço\nA Comunidade Canção Nova realiza\, dia 16 de fevereiro\, o Kairós “Terço dos Homens”. \nA programação do evento conta com pregações\, terço\, adoração ao Santíssimo Sacramento e Santa Missa. \nO encontro tem como objetivo reunir todos os grupos do terço dos homens distribuídos por todo o Brasil\, o qual\, com a oração do rosário\, vem transformando vidas. \nodos os homens\, independentemente de sua idade\, são convidados a participar deste encontro. Traga sua Bíblia e seu terço\, e junte-se a nós nesses dias de oração. \nO encontro é gratuito e não há limite de idade para participar. Você pode se hospedar na Pousada Sérgio Abib ou no Camping Canção Nova. \nCanção Nova  \nA sede da Comunidade Canção Nova\, em Cachoeira Paulista (SP)\, empenha-se em acolher\, carinhosamente\, todos os peregrinos com uma ampla infraestrutura\, em um ambiente agradável\, cheio de paz e beleza\, propício ao encontro com Deus. \n
URL:https://blog.cancaonova.com/voluntarios/event/kairos-terco-dos-homens/
LOCATION:Rua João Paulo II\, S/N\, Cachoeira Paulista\, São Paulo\, 12.630-000\, Brasil
CATEGORIES:Evento Fevereiro
ATTACH;FMTTYPE=image/png:https://blog.cancaonova.com/voluntarios/files/2024/11/5.png
END:VEVENT
END:VCALENDAR